BEGIN:VCALENDAR
VERSION:2.0
PRODID:-//VDO Quilters &amp; Crafters - ECPv6.15.20//NONSGML v1.0//EN
CALSCALE:GREGORIAN
METHOD:PUBLISH
X-WR-CALNAME:VDO Quilters &amp; Crafters
X-ORIGINAL-URL:https://vdoquilters.com
X-WR-CALDESC:Events for VDO Quilters &amp; Crafters
REFRESH-INTERVAL;VALUE=DURATION:PT1H
X-Robots-Tag:noindex
X-PUBLISHED-TTL:PT1H
BEGIN:VTIMEZONE
TZID:America/Phoenix
BEGIN:STANDARD
TZOFFSETFROM:-0700
TZOFFSETTO:-0700
TZNAME:MST
DTSTART:20250101T000000
END:STANDARD
END:VTIMEZONE
BEGIN:VEVENT
DTSTART;TZID=America/Phoenix:20260121T130000
DTEND;TZID=America/Phoenix:20260121T160000
DTSTAMP:20260419T132719
CREATED:20251219T161414Z
LAST-MODIFIED:20251219T161414Z
UID:6029-1769000400-1769011200@vdoquilters.com
SUMMARY:Linus
DESCRIPTION:Create beautiful quilts for children 0-18 years which are donated to local hospitals through the Project Linus organization. \nAll skill levels of quilters are needed as there are many steps to creating a quilt.
URL:https://vdoquilters.com/event/linus-10/
LOCATION:Sewing Room
END:VEVENT
BEGIN:VEVENT
DTSTART;TZID=America/Phoenix:20260121T090000
DTEND;TZID=America/Phoenix:20260121T110000
DTSTAMP:20260419T132719
CREATED:20260119T200000Z
LAST-MODIFIED:20260119T200000Z
UID:6121-1768986000-1768993200@vdoquilters.com
SUMMARY:Laminated Christmas Placemats Demo
DESCRIPTION: 
URL:https://vdoquilters.com/event/laminated-christmas-placemats-demo/
LOCATION:La Paz Room
END:VEVENT
BEGIN:VEVENT
DTSTART;TZID=America/Phoenix:20260120T090000
DTEND;TZID=America/Phoenix:20260120T160000
DTSTAMP:20260419T132719
CREATED:20260113T014742Z
LAST-MODIFIED:20260113T014743Z
UID:6092-1768899600-1768924800@vdoquilters.com
SUMMARY:Machine Appliqué
DESCRIPTION:Materials Needed: \n2/3 yard background fabric (2) \n1/4 yard fabric for flowers \n1/4 yard fabric for leaves \n1/4 yard light weight iron on interfacing \nSpool of invisible thread \nSkill Level:  Experienced
URL:https://vdoquilters.com/event/machine-applique/
LOCATION:Sewing Room
ATTACH;FMTTYPE=image/jpeg:https://vdoquilters.com/wp-content/uploads/2026/01/IMG_4252-Eric-Lans-scaled.jpeg
END:VEVENT
BEGIN:VEVENT
DTSTART;TZID=America/Phoenix:20260119T130000
DTEND;TZID=America/Phoenix:20260119T160000
DTSTAMP:20260419T132719
CREATED:20251105T204642Z
LAST-MODIFIED:20251109T180241Z
UID:5945-1768827600-1768838400@vdoquilters.com
SUMMARY:Beginning Quilting (2 of 6)
DESCRIPTION:Learn the Basics of Quilting in a series of 6 classes. \nIntructors: \n\nAndy Noyes 406-670-4625\nMary Ann Smith 307-575-6854\nSharon Kilmer 406-853-6142\n\nLevel of difficulty: Beginner \nMaximum attendees:  12
URL:https://vdoquilters.com/event/beginning-quilting-2/
LOCATION:Sewing Room
END:VEVENT
BEGIN:VEVENT
DTSTART;TZID=America/Phoenix:20260119T083000
DTEND;TZID=America/Phoenix:20260119T100000
DTSTAMP:20260419T132719
CREATED:20251013T154917Z
LAST-MODIFIED:20251013T154917Z
UID:5890-1768811400-1768816800@vdoquilters.com
SUMMARY:Show n’ Tell
DESCRIPTION:Join us in the Theater Room 8:30am\, Mondays from November to March for Show n’ Tell. VDO residents share their creations\, stories and humour. 
URL:https://vdoquilters.com/event/show-n-tell-4/
LOCATION:Theater Room
END:VEVENT
END:VCALENDAR